BEGIN:VCALENDAR
VERSION:2.0
PRODID:-//Osprey Wilds - ECPv5.2.0//NONSGML v1.0//EN
CALSCALE:GREGORIAN
METHOD:PUBLISH
X-WR-CALNAME:Osprey Wilds
X-ORIGINAL-URL:https://ospreywilds.org
X-WR-CALDESC:Events for Osprey Wilds
BEGIN:VTIMEZONE
TZID:America/Chicago
BEGIN:DAYLIGHT
TZOFFSETFROM:-0600
TZOFFSETTO:-0500
TZNAME:CDT
DTSTART:20230312T080000
END:DAYLIGHT
BEGIN:STANDARD
TZOFFSETFROM:-0500
TZOFFSETTO:-0600
TZNAME:CST
DTSTART:20231105T070000
END:STANDARD
END:VTIMEZONE
BEGIN:VEVENT
DTSTART;VALUE=DATE:20230929
DTEND;VALUE=DATE:20231002
DTSTAMP:20260421T074343
CREATED:20230629T143210Z
LAST-MODIFIED:20230824T183540Z
UID:510367-1695945600-1696204799@ospreywilds.org
SUMMARY:Women's Wellness Weekend - Fall 2023
DESCRIPTION:Women's Wellness Weekend		\n				\n				\n				\n			September 29 - October 1\, 2023		\n				\n				\n				\n					\n			\n						\n		\n				\n				\n				\n						\n							\n					\n			\n							\n						\n				\n			About		\n				\n						\n					\n		\n								\n					\n		\n				\n						\n							\n					\n			\n							\n						\n				\n					Osprey Wilds is an environmental learning center in Sandstone\, Minnesota. Our mission is to instill a connection and commitment to the environment in people of all communities through experiential learning. Our Women’s Wellness Weekend is the perfect time to reconnect with nature alongside a friendly and welcoming community.   This retreat is hosted twice a year (spring and fall) and is an opportunity for anyone who identifies as a woman to spend time in nature\, meet new people\, and learn new skills. The weekend is full of possibilities\, and we encourage you to join us!  This weekend focuses on adventure\, relaxation and renewal; you can choose from a wide variety of mind\, body and spirit activities for healing and personal growth\, including private massages\, reiki/energy healing\, chakra and intuitive sessions. Enjoy the peace and calm of our campus\, and immerse yourself in nature. \n				\n				\n				\n				\n					\n																					\n				\n				\n						\n					\n		\n				\n			\n							\n						\n				\n					\n			\n						\n		\n				\n				\n				\n				\n					Nature \n				\n				\n				\n				\n					\n			\n						\n		\n				\n				\n				\n				\n					Connection \n				\n				\n				\n				\n					\n			\n						\n		\n				\n				\n				\n				\n					Community \n				\n				\n				\n				\n					\n			\n						\n		\n				\n				\n				\n				\n					Learning \n				\n				\n						\n					\n		\n								\n					\n		\n				\n				\n					\n			\n		\n				\n				\n				\n				\n					\n			\n						\n						View Class Schedule\n		\n					\n		\n				\n				\n				\n				\n					\n			\n						\n						REGISTER HERE!\n		\n					\n		\n				\n				\n				\n				\n					\n			\n							\n					\n						\n		\n				\n				\n				\n				\n					View the complete menu for the weekend HERE. We offer vegetarian\, vegan\, and gluten-free options for every meal. \n				\n				\n						\n					\n		\n								\n					\n		\n				\n						\n							\n					\n			\n							\n						\n						\n							\n					\n			\n							\n						\n				\n			Registration		\n				\n				\n				\n					Registration will look slightly different this year than it has in the past. All registration will be online. Please read the instructions below to register. \n				\n				\n				\n				\n					Individual Registration ONLY You will only be able to register one person at a time this year.  To ensure everyone gets all the informational emails\, each participant must be registered  with their own email address.  If you are coming with your friend(s)\, you should still list them on the registration or write N/A.    \n				\n				\n				\n				\n					Information Packets  New this year: once you have finished your registration you will automatically receive an email with the subject “Women’s Wellness Weekend Info Pack”. This email will include one form that needs to be returned\, along with other helpful information. If you do not see this in your inbox within a day of registering\, please check your spam filter.    \n				\n				\n				\n				\n					Scholarships available! We have plenty of scholarships available for this weekend. Please share this form with anyone who would benefit from a scholarship.  \n				\n				\n				\n				\n					Single-person registration We encourage all folks to join us for this weekend! If you are registering as a single person (not with a group or specified roommate) we will place you with a roommate! Single-occupancy rooms are not available due to the number of attendees. Sharing a room is a great way to get to know fellow participants. \n				\n				\n						\n					\n		\n				\n			\n							\n						\n				\n			Pricing		\n				\n				\n				\n					Your ticket includes lodging (Friday night and Saturday night)\, all meals + snacks\, coffee and refreshments\, and scheduled activities. All tickets are non-refundable. There are no refunds for cancellations. See below for our different ticket prices for various lodging options. The prices below are per person.  \n				\n				\n				\n				\n					Double-occupancy – Crosby Lodge (2 people per room)   = $540/person  Double-occupancy – Lowry Lodge (2 people per room)  = $490/person Triple-occupancy – Crosby Lodge (3 people per room)  = $460/person Triple-occupancy – Lowry Lodge (3 people per room)  = $415/person Quad-occupancy – Crosby Lodge (4 people per room) = $360/person Commuter\, tent camping\, trailers campers rate (per person) – includes meals and programs: $300/person
URL:https://ospreywilds.org/event/www-fall2023/
LOCATION:Osprey Wilds\, 54165 Audubon Dr\, Sandstone\, MN\, 55072\, United States
CATEGORIES:Adult Events
ORGANIZER;CN="Osprey%20Wilds":MAILTO:info@ospreywilds.org
END:VEVENT
END:VCALENDAR