BEGIN:VCALENDAR
VERSION:2.0
PRODID:-//Osprey Wilds - ECPv5.2.0//NONSGML v1.0//EN
CALSCALE:GREGORIAN
METHOD:PUBLISH
X-WR-CALNAME:Osprey Wilds
X-ORIGINAL-URL:https://ospreywilds.org
X-WR-CALDESC:Events for Osprey Wilds
BEGIN:VTIMEZONE
TZID:America/Chicago
BEGIN:DAYLIGHT
TZOFFSETFROM:-0600
TZOFFSETTO:-0500
TZNAME:CDT
DTSTART:20220313T080000
END:DAYLIGHT
BEGIN:STANDARD
TZOFFSETFROM:-0500
TZOFFSETTO:-0600
TZNAME:CST
DTSTART:20221106T070000
END:STANDARD
END:VTIMEZONE
BEGIN:VEVENT
DTSTART;TZID=America/Chicago:20220115T133000
DTEND;TZID=America/Chicago:20220115T153000
DTSTAMP:20260422T070940
CREATED:20211116T150512Z
LAST-MODIFIED:20211218T170823Z
UID:508574-1642253400-1642260600@ospreywilds.org
SUMMARY:Winter Hike - Animal Tracks & Signs
DESCRIPTION:Winter Hike - Animal Tracks & Signs		\n				\n				\n				\n			Saturday\, January 15		\n				\n				\n				\n			1:30 pm - 3:30 pm 		\n				\n				\n				\n			Free - all ages welcome		\n				\n				\n				\n					\n			\n						\n		\n				\n				\n				\n						\n							\n					\n			\n							\n						\n				\n					Join us at Osprey Wilds on January 15 for a free interpretive hike! Ever wonder what that track you’ve seen in the snow is? Join us on a hike at Osprey Wilds to investigate the different animal signs!  This event will be led by one of our environmental education naturalists. All ages welcome. Participants under 16 must be accompanied by an adult. Please contact us if you have any questions.  Pre-registration is not required but greatly appreciated! Use the link below to register.  \n				\n				\n						\n					\n		\n								\n					\n		\n				\n				\n					\n			\n						\n						R S V P
URL:https://ospreywilds.org/event/winter-hike-animal-tracks-signs/
LOCATION:Osprey Wilds\, 54165 Audubon Dr\, Sandstone\, MN\, 55072\, United States
CATEGORIES:Adult Events,Family Events
ATTACH;FMTTYPE=image/jpeg:https://ospreywilds.org/wp/wp-content/uploads/2021/11/tracls.jpg
END:VEVENT
END:VCALENDAR