BEGIN:VCALENDAR
VERSION:2.0
PRODID:-//Osprey Wilds - ECPv5.2.0//NONSGML v1.0//EN
CALSCALE:GREGORIAN
METHOD:PUBLISH
X-WR-CALNAME:Osprey Wilds
X-ORIGINAL-URL:https://ospreywilds.org
X-WR-CALDESC:Events for Osprey Wilds
BEGIN:VTIMEZONE
TZID:America/Chicago
BEGIN:DAYLIGHT
TZOFFSETFROM:-0600
TZOFFSETTO:-0500
TZNAME:CDT
DTSTART:20230312T080000
END:DAYLIGHT
BEGIN:STANDARD
TZOFFSETFROM:-0500
TZOFFSETTO:-0600
TZNAME:CST
DTSTART:20231105T070000
END:STANDARD
END:VTIMEZONE
BEGIN:VEVENT
DTSTART;TZID=America/Chicago:20230114T090000
DTEND;TZID=America/Chicago:20230114T150000
DTSTAMP:20260419T152120
CREATED:20221220T023817Z
LAST-MODIFIED:20221220T024021Z
UID:509905-1673686800-1673708400@ospreywilds.org
SUMMARY:WILD Workshop - Ice Fishing
DESCRIPTION:Family Ice Fishing Workshop		\n				\n				\n				\n			January 14		\n				\n				\n				\n			9 AM - 3  PM 		\n				\n				\n				\n					\n			\n						\n		\n				\n				\n				\n						\n							\n					\n			\n							\n						\n				\n					Join our Education Director and former MNDNR Aquatic Resources Education Specialist\, Nadine Meyer\, for an activity-packed day focused on Minnesota Fishes and Ice Fishing. Participants will make their own ice fishing jiggle stick to use that day and take home\, practice ice and winter safety\, learn how fish survive the winter and more! This is a family-friendly event. Ages 4 and up will make jiggle sticks and lunch is provided. Space is limited. Registration is $25/participant\, children ages 0-3 are free. \n				\n				\n						\n					\n		\n								\n					\n		\n				\n				\n					\n			\n						\n						Register
URL:https://ospreywilds.org/event/wild-workshop-ice-fishing/
CATEGORIES:Adult Events
END:VEVENT
END:VCALENDAR