BEGIN:VCALENDAR
VERSION:2.0
PRODID:-//Osprey Wilds - ECPv5.2.0//NONSGML v1.0//EN
CALSCALE:GREGORIAN
METHOD:PUBLISH
X-WR-CALNAME:Osprey Wilds
X-ORIGINAL-URL:https://ospreywilds.org
X-WR-CALDESC:Events for Osprey Wilds
BEGIN:VTIMEZONE
TZID:America/Chicago
BEGIN:DAYLIGHT
TZOFFSETFROM:-0600
TZOFFSETTO:-0500
TZNAME:CDT
DTSTART:20210314T080000
END:DAYLIGHT
BEGIN:STANDARD
TZOFFSETFROM:-0500
TZOFFSETTO:-0600
TZNAME:CST
DTSTART:20211107T070000
END:STANDARD
END:VTIMEZONE
BEGIN:VEVENT
DTSTART;TZID=America/Chicago:20210925T100000
DTEND;TZID=America/Chicago:20210925T150000
DTSTAMP:20260421T053927
CREATED:20210510T230438Z
LAST-MODIFIED:20210901T145658Z
UID:507055-1632564000-1632582000@ospreywilds.org
SUMMARY:WILD Workshop: Enjoy the Ride
DESCRIPTION:WILD Workshop		\n				\n				\n				\n			Wellness\, Interests and Lifelong Discovery		\n				\n				\n				\n			Enjoy the Ride		\n				\n				\n				\n			Saturday\, September 25		\n				\n				\n				\n			10 AM - 3 PM 		\n				\n				\n				\n					\n			\n						\n		\n				\n				\n				\n							\n							\n							\n					\n			\n							\n								\n					\n		\n				\n			\n							\n						\n				\n					Start the day at Osprey Wilds and learn the basics of bicycle maintenance and repairs from an expert! You will also learn what tools and supplies you need to keep your bike running smoothly and safely. After lunch\, join us for a group ride on the Willard Munger Trail (paved). We will review trail-riding etiquette and safety along with tips to help you enjoy the ride!  What to bring?  Your bicycle (bikes will not be provided) & helmet (required for group ride). \n				\n				\n						\n					\n		\n				\n			\n					\n							\n								\n					\n		\n								\n					\n		\n				\n						\n							\n					\n			\n							\n						\n				\n			Pricing		\n				\n				\n				\n					$25 per person includes lunch  \n				\n				\n						\n					\n		\n				\n			\n							\n						\n				\n			Registration		\n				\n				\n				\n					Please use the link below to register by noon on Friday\, September 24. Registrants must be 16+ and accompanied by an adult if under the age of 18. \n				\n				\n						\n					\n		\n								\n					\n		\n				\n				\n					\n			\n						\n						Register Here\n		\n					\n		\n				\n				\n				\n				\n					\n			\n						\n		\n				\n				\n				\n						\n							\n					\n			\n							\n						\n				\n					\n																					\n				\n				\n						\n					\n		\n				\n			\n							\n						\n				\n					About WILD Workshops Each month\, a community member will offer a class that will take place on our campus in Sandstone\, Minnesota. These classes are created for adults\, but younger students (16+) with parental supervision are welcome to join. Lunch will be provided.  \n				\n				\n						\n					\n		\n								\n					\n		\n				\n				\n					\n			\n		\n				\n				\n				\n				\n					\n			\n		\n				\n				\n						\n					\n		\n								\n					\n		\n				\n						\n							\n					\n			\n							\n						\n				\n					Osprey Wilds is following COVID-19 recommendations and guidelines from the CDC. Please contact us if you have any questions or concerns.
URL:https://ospreywilds.org/event/wild-workshop-enjoy-the-ride/
LOCATION:Osprey Wilds\, 54165 Audubon Dr\, Sandstone\, MN\, 55072\, United States
CATEGORIES:Adult Events
END:VEVENT
END:VCALENDAR