BEGIN:VCALENDAR
VERSION:2.0
PRODID:-//Osprey Wilds - ECPv5.2.0//NONSGML v1.0//EN
CALSCALE:GREGORIAN
METHOD:PUBLISH
X-WR-CALNAME:Osprey Wilds
X-ORIGINAL-URL:https://ospreywilds.org
X-WR-CALDESC:Events for Osprey Wilds
BEGIN:VTIMEZONE
TZID:America/Chicago
BEGIN:DAYLIGHT
TZOFFSETFROM:-0600
TZOFFSETTO:-0500
TZNAME:CDT
DTSTART:20200308T080000
END:DAYLIGHT
BEGIN:STANDARD
TZOFFSETFROM:-0500
TZOFFSETTO:-0600
TZNAME:CST
DTSTART:20201101T070000
END:STANDARD
END:VTIMEZONE
BEGIN:VEVENT
DTSTART;TZID=America/Chicago:20200725T180000
DTEND;TZID=America/Chicago:20200725T191500
DTSTAMP:20260421T053559
CREATED:20200702T163648Z
LAST-MODIFIED:20200702T213113Z
UID:503395-1595700000-1595704500@ospreywilds.org
SUMMARY:Virtual Film Screening: Green Fire with Curt Meine
DESCRIPTION:Green Fire Screening + Discussion with Aldo Leopold's Biographer\, Curt Meine		\n				\n				\n						\n							\n					\n			\n							\n						\n				\n					Join Osprey Wilds Environmental Learning Center for a screening of Emmy Award-winning documentary film\, Green Fire\, on July 25 at 6:00 pm CT.  Green Fire is a documentary that examines Aldo Leopold’s idea of a land ethic and its relevance to a population facing 21st-century ecological challenges. At its core\, the concept of a land ethic is about caring for people\, land\, and strengthening the relationships between them.  Filmmaker\, conservation biologist\, and author of the biography Aldo Leopold: His Life and Work\, Curt Meine\, will be joining us to discuss the film and provide insights into the creation of the documentary. Learn more about Curt Meine here.  \n				\n				\n						\n					\n		\n				\n			\n							\n						\n				\n					Date: Saturday\, July 25Time: 6:00 pm – 7:15 pm Platform: Zoom WebinarCost: $10\n				\n				\n				\n				\n					Register Here
URL:https://ospreywilds.org/event/virtual-film-screening-green-fire-with-curt-meine/
CATEGORIES:Family Events
ATTACH;FMTTYPE=image/jpeg:https://ospreywilds.org/wp/wp-content/uploads/2020/07/Green-Fire-e1593725458255.jpg
END:VEVENT
END:VCALENDAR