BEGIN:VCALENDAR
VERSION:2.0
PRODID:-//Osprey Wilds - ECPv5.2.0//NONSGML v1.0//EN
CALSCALE:GREGORIAN
METHOD:PUBLISH
X-WR-CALNAME:Osprey Wilds
X-ORIGINAL-URL:https://ospreywilds.org
X-WR-CALDESC:Events for Osprey Wilds
BEGIN:VTIMEZONE
TZID:America/Chicago
BEGIN:DAYLIGHT
TZOFFSETFROM:-0600
TZOFFSETTO:-0500
TZNAME:CDT
DTSTART:20230312T080000
END:DAYLIGHT
BEGIN:STANDARD
TZOFFSETFROM:-0500
TZOFFSETTO:-0600
TZNAME:CST
DTSTART:20231105T070000
END:STANDARD
END:VTIMEZONE
BEGIN:VEVENT
DTSTART;TZID=America/Chicago:20230916T170000
DTEND;TZID=America/Chicago:20230916T210000
DTSTAMP:20260421T055719
CREATED:20230706T184753Z
LAST-MODIFIED:20230907T145428Z
UID:510409-1694883600-1694898000@ospreywilds.org
SUMMARY:September Dinner at the Lake
DESCRIPTION:Dinner at the Lake		\n				\n				\n				\n			Saturday\, September 16		\n				\n				\n				\n			5 pm - 9 pm 		\n				\n				\n				\n			$40		\n				\n				\n				\n					\n			\n						\n		\n				\n				\n				\n						\n							\n					\n			\n							\n						\n				\n					\n																					\n				\n				\n				\n				\n					Join us at Osprey Wilds for our Dinner at the Lake event on September 16th.  Enjoy delicious food and hear from our guest speaker\, Chance York\, host of Outside Chance. View the menu below. \n				\n				\n						\n					\n		\n								\n					\n		\n				\n				\n					\n			\n						\n						Tickets\n		\n					\n		\n				\n				\n				\n				\n					\n			\n						\n		\n				\n				\n				\n						\n							\n					\n			\n							\n						\n				\n					\n																					\n				\n				\n						\n					\n		\n				\n			\n							\n						\n				\n					Chance York is a  yogi\, emcee\, rapper\, and outdoor enthusiast. He hosts a PBS web series that explores Minnesota outdoor activities and traditions called Outside Chance.  \n				\n				\n						\n					\n		\n								\n					\n		\n				\n				\n					\n			\n						\n		\n				\n				\n				\n				\n					 MENUAppetizersFresh Salsa and Chips   Main CourseBeef Tacos Chicken Tacos Refried Beans Black Beans Grilled Seasonal Veggies Seasoned Rice   DessertBuild your own s’mores!  
URL:https://ospreywilds.org/event/september23-dal/
LOCATION:Osprey Wilds\, 54165 Audubon Dr\, Sandstone\, MN\, 55072\, United States
CATEGORIES:Adult Events,Community Events
ORGANIZER;CN="Osprey%20Wilds":MAILTO:info@ospreywilds.org
END:VEVENT
END:VCALENDAR