BEGIN:VCALENDAR
VERSION:2.0
PRODID:-//Osprey Wilds - ECPv5.2.0//NONSGML v1.0//EN
CALSCALE:GREGORIAN
METHOD:PUBLISH
X-WR-CALNAME:Osprey Wilds
X-ORIGINAL-URL:https://ospreywilds.org
X-WR-CALDESC:Events for Osprey Wilds
BEGIN:VTIMEZONE
TZID:America/Chicago
BEGIN:DAYLIGHT
TZOFFSETFROM:-0600
TZOFFSETTO:-0500
TZNAME:CDT
DTSTART:20220313T080000
END:DAYLIGHT
BEGIN:STANDARD
TZOFFSETFROM:-0500
TZOFFSETTO:-0600
TZNAME:CST
DTSTART:20221106T070000
END:STANDARD
END:VTIMEZONE
BEGIN:VEVENT
DTSTART;VALUE=DATE:20220711
DTEND;VALUE=DATE:20220716
DTSTAMP:20260422T185959
CREATED:20220108T025743Z
LAST-MODIFIED:20220318T020059Z
UID:508802-1657497600-1657929599@ospreywilds.org
SUMMARY:Rocks\, Ropes\, & Rafts Camp
DESCRIPTION:Rocks\, Ropes\, & Rafts		\n				\n				\n				\n			Overnight Camp		\n				\n				\n				\n			July 11-15		\n				\n				\n				\n					\n			\n						\n		\n				\n				\n				\n						\n							\n					\n			\n							\n						\n				\n					\n																					\n				\n				\n				\n				\n					Experience the adventures of white water rafting\, canoeing\, rock climbing\, high ropes and more. We will take field trips to parks\, rivers\, and one campground nearby and in the Northwoods. Participants will stay overnight on-campus with one night off-site at a local park. This camp costs $645 per camper. Space is limited. This camp is for students entering grades 7-9. Register below.  Scholarships are available. Download and complete our scholarship application form here. Email it to schools@ospreywilds.org before registering for camp.  \n				\n				\n						\n					\n		\n								\n					\n		\n				\n						\n							\n					\n			\n							\n						\n				\n					\n			\n						\n						Register here
URL:https://ospreywilds.org/event/rocks-ropes-rafts-camp/
LOCATION:Osprey Wilds\, 54165 Audubon Dr\, Sandstone\, MN\, 55072\, United States
CATEGORIES:Youth Events
ORGANIZER;CN="Osprey%20Wilds":MAILTO:info@ospreywilds.org
END:VEVENT
END:VCALENDAR