BEGIN:VCALENDAR
VERSION:2.0
PRODID:-//Osprey Wilds - ECPv5.2.0//NONSGML v1.0//EN
CALSCALE:GREGORIAN
METHOD:PUBLISH
X-WR-CALNAME:Osprey Wilds
X-ORIGINAL-URL:https://ospreywilds.org
X-WR-CALDESC:Events for Osprey Wilds
BEGIN:VTIMEZONE
TZID:America/Chicago
BEGIN:DAYLIGHT
TZOFFSETFROM:-0600
TZOFFSETTO:-0500
TZNAME:CDT
DTSTART:20200308T080000
END:DAYLIGHT
BEGIN:STANDARD
TZOFFSETFROM:-0500
TZOFFSETTO:-0600
TZNAME:CST
DTSTART:20201101T070000
END:STANDARD
END:VTIMEZONE
BEGIN:VEVENT
DTSTART;TZID=America/Chicago:20200620T120000
DTEND;TZID=America/Chicago:20200620T190000
DTSTAMP:20260423T070232
CREATED:20200529T184649Z
LAST-MODIFIED:20200611T135228Z
UID:503001-1592654400-1592679600@ospreywilds.org
SUMMARY:Picnic Pick Up: BBQ Ribs
DESCRIPTION:June 20 Picnic Pick Up: BBQ Ribs		\n				\n						\n					\n		\n								\n					\n		\n				\n						\n							\n					\n			\n							\n						\n				\n					Our kitchen staff have crafted a delicious summer meal for you and your loved ones to enjoy. Each meal will be safely prepared and packaged in to-go containers. Picnic tables will be available for small groups to use. Each table will be sanitized and safely spaced for visitors. Enjoy a hike or watch the sunset before or after your meal. All orders will need to be picked up onsite on June 20. We are offering two pickup timeframes: 12:00-2:00 pm OR 5:00-7:00 pm. You will note your preference when ordering. Additional details will be sent to you regarding your order before June 20.  Meals are prepared for serving sizes of 2 and 4.  \n				\n				\n						\n					\n		\n								\n					\n		\n				\n						\n							\n					\n			\n							\n						\n						\n							\n					\n			\n							\n						\n				\n					\n																					\n				\n				\n						\n					\n		\n				\n			\n							\n						\n				\n					MenuBBQ Ribs Ranch potato saladWatermelon CornbreadPricingMeals for 2 people: $25Meals for 4 people: $45
URL:https://ospreywilds.org/event/picnic-pick-up-bbq-ribs/
LOCATION:Osprey Wilds\, 54165 Audubon Dr\, Sandstone\, MN\, 55072\, United States
CATEGORIES:Community Events
END:VEVENT
END:VCALENDAR