BEGIN:VCALENDAR
VERSION:2.0
PRODID:-//Osprey Wilds - ECPv5.2.0//NONSGML v1.0//EN
CALSCALE:GREGORIAN
METHOD:PUBLISH
X-WR-CALNAME:Osprey Wilds
X-ORIGINAL-URL:https://ospreywilds.org
X-WR-CALDESC:Events for Osprey Wilds
BEGIN:VTIMEZONE
TZID:America/Chicago
BEGIN:DAYLIGHT
TZOFFSETFROM:-0600
TZOFFSETTO:-0500
TZNAME:CDT
DTSTART:20200308T080000
END:DAYLIGHT
BEGIN:STANDARD
TZOFFSETFROM:-0500
TZOFFSETTO:-0600
TZNAME:CST
DTSTART:20201101T070000
END:STANDARD
END:VTIMEZONE
BEGIN:VEVENT
DTSTART;TZID=America/Chicago:20201220T120000
DTEND;TZID=America/Chicago:20201220T140000
DTSTAMP:20260421T043422
CREATED:20201123T182702Z
LAST-MODIFIED:20201216T175905Z
UID:505042-1608465600-1608472800@ospreywilds.org
SUMMARY:December Picnic Pick Up
DESCRIPTION:Picnic Pick Up 		\n				\n				\n				\n			Sunday\, December 20		\n				\n				\n				\n					\n																					\n				\n				\n				\n				\n					Osprey Wilds is continuing to cook delicious meals using local\, seasonal\, and high-quality ingredients. Sign up ahead of time and stop by Osprey Wilds on December 20 from 12 pm – 2 pm. All meals will be prepared in to-go containers.  Orders must be placed by Friday\, December 18 at 4 pm CST. You will note on your order form when you plan to pick up your picnic\, either between 12 – 1  pm or 1 – 2  pm. Picnics come in serving sizes of two for $25 or four servings for $45.  Osprey Wilds has hiking trails\, campsites\, cabins\, and plenty of space to explore. Check out our program calendar for more events\, including free hike\, snowshoe\, and ski days! Menu: Baked ham\, au gratin potatoes\, homemade cranberry sauce\, a dinner roll\, and holiday fudge. A vegetarian option of stuffed acorn squash is available. Sign up for our emails to hear about new events\, programs\, and news from Osprey Wilds! Questions? Contact us at frontdesk@ospreywilds.org \n				\n				\n				\n				\n					\n			\n						\n						Order Here
URL:https://ospreywilds.org/event/picnic-pick-up-2/
LOCATION:Osprey Wilds\, 54165 Audubon Dr\, Sandstone\, MN\, 55072\, United States
CATEGORIES:Community Events,Family Events
ATTACH;FMTTYPE=image/png:https://ospreywilds.org/wp/wp-content/uploads/2020/11/dec-20-icon-e1606161512573.png
END:VEVENT
END:VCALENDAR