BEGIN:VCALENDAR
VERSION:2.0
PRODID:-//Osprey Wilds - ECPv5.2.0//NONSGML v1.0//EN
CALSCALE:GREGORIAN
METHOD:PUBLISH
X-WR-CALNAME:Osprey Wilds
X-ORIGINAL-URL:https://ospreywilds.org
X-WR-CALDESC:Events for Osprey Wilds
BEGIN:VTIMEZONE
TZID:America/Chicago
BEGIN:DAYLIGHT
TZOFFSETFROM:-0600
TZOFFSETTO:-0500
TZNAME:CDT
DTSTART:20260308T080000
END:DAYLIGHT
BEGIN:STANDARD
TZOFFSETFROM:-0500
TZOFFSETTO:-0600
TZNAME:CST
DTSTART:20261101T070000
END:STANDARD
END:VTIMEZONE
BEGIN:VEVENT
DTSTART;TZID=America/Chicago:20260120T180000
DTEND;TZID=America/Chicago:20260120T200000
DTSTAMP:20260421T021815
CREATED:20251223T194320Z
LAST-MODIFIED:20251223T194543Z
UID:512951-1768932000-1768939200@ospreywilds.org
SUMMARY:Paint and Sip with Wild State Cider
DESCRIPTION:Paint and Sip Workshop		\n				\n				\n				\n			at wild state cider		\n				\n				\n				\n			Tuesday\, January 20th		\n				\n				\n				\n			6 PM - 8 PM 		\n				\n				\n				\n					\n			\n						\n		\n				\n				\n				\n				\n					Take part in a collaboration between Osprey Wilds and Wild State Cider!\n				\n				\n				\n							\n							\n							\n					\n			\n							\n								\n					\n		\n				\n			\n							\n						\n				\n					Join us at Wild State Cider for a Paint and Sip Workshop! At this event\, you will be guided through the process of painting a nature scene while enjoying a beverage crafted by Wild State! \nSocialize with staff and learn more about both Osprey Wilds Environmental Learning Center and Wild State Cider at this event.  \n				\n				\n						\n					\n		\n				\n			\n					\n							\n								\n					\n		\n								\n					\n		\n				\n						\n							\n					\n			\n							\n						\n				\n			Pricing		\n				\n				\n				\n					$30 per person Pricing includes all painting supplies and one drink ticket (N/A options available). All proceeds go to Osprey Wilds! \n				\n				\n						\n					\n		\n				\n			\n							\n						\n				\n			Registration		\n				\n				\n				\n					Please use the link below to register by noon on Monday\, January 19th.  This event is open to all ages. \n				\n				\n						\n					\n		\n								\n					\n		\n				\n				\n					\n			\n						\n						Register Here\n		\n					\n		\n				\n				\n				\n				\n					\n			\n						\n		\n				\n				\n				\n						\n							\n					\n			\n							\n						\n				\n					\n																					\n				\n				\n						\n					\n		\n				\n			\n							\n						\n				\n					About Paint and Sip Proceeds Proceeds from this Paint and Sip event will go towards caring for our Animal Ambassadors\, including covering costs related to their food\, medical care\, housing\, and more. Our animals thank you for your support!
URL:https://ospreywilds.org/event/paint-and-sip-with-wild-state-cider/
LOCATION:Wild State Cider\, 2515 W Superior St\, Duluth\, 5806\, United States
CATEGORIES:Adult Events
ORGANIZER;CN="Osprey%20Wilds":MAILTO:info@ospreywilds.org
END:VEVENT
END:VCALENDAR