BEGIN:VCALENDAR
VERSION:2.0
PRODID:-//Osprey Wilds - ECPv5.2.0//NONSGML v1.0//EN
CALSCALE:GREGORIAN
METHOD:PUBLISH
X-WR-CALNAME:Osprey Wilds
X-ORIGINAL-URL:https://ospreywilds.org
X-WR-CALDESC:Events for Osprey Wilds
BEGIN:VTIMEZONE
TZID:America/Chicago
BEGIN:DAYLIGHT
TZOFFSETFROM:-0600
TZOFFSETTO:-0500
TZNAME:CDT
DTSTART:20220313T080000
END:DAYLIGHT
BEGIN:STANDARD
TZOFFSETFROM:-0500
TZOFFSETTO:-0600
TZNAME:CST
DTSTART:20221106T070000
END:STANDARD
END:VTIMEZONE
BEGIN:VEVENT
DTSTART;VALUE=DATE:20220320
DTEND;VALUE=DATE:20220321
DTSTAMP:20260422T035258
CREATED:20220206T185018Z
LAST-MODIFIED:20230111T015016Z
UID:508930-1647734400-1647820799@ospreywilds.org
SUMMARY:Maple Syrup Day  - March 20\, 2022
DESCRIPTION:Maple Syrup Day 		\n				\n				\n				\n			Sunday\, March 20		\n				\n				\n				\n			10 am - 3 pm 		\n				\n				\n				\n					\n			\n						\n		\n				\n				\n				\n						\n							\n					\n			\n							\n						\n				\n					Join us at Osprey Wilds Environmental Learning Center for a hands-on Maple Syrup Tour and to-go Pancake Meal! Tours last around an hour.  Last meals served at 2:30 pm. Registration is required by March 18.  \n				\n				\n				\n				\n					Tour includes Identifying maple treesTapping treesCollecting sapLearning how sap becomes syrup Cost Tour (5 years+): $5Pancake Meal (5 years+): $10Children 5 years and younger – free! Anyone under 16 years old needs to be accompanied by an adult. \n				\n				\n				\n				\n					\n				\n				\n						\n					\n		\n								\n					\n		\n				\n				\n					\n			\n						\n						Tickets\n		\n					\n		\n				\n				\n				\n				\n					\n			\n						\n		\n				\n				\n				\n						\n							\n					\n			\n							\n						\n				\n					\n																					\n				\n				\n						\n					\n		\n				\n			\n							\n						\n				\n					Our gift shop will be open to visitors during this weekend! Stock up on merchandise\, maple syrup\, and other local food and handcrafted items.
URL:https://ospreywilds.org/event/maple-syrup-day-march-20-2022/
LOCATION:Osprey Wilds\, 54165 Audubon Dr\, Sandstone\, MN\, 55072\, United States
CATEGORIES:Family Events
ORGANIZER;CN="Osprey%20Wilds":MAILTO:info@ospreywilds.org
END:VEVENT
END:VCALENDAR