BEGIN:VCALENDAR
VERSION:2.0
PRODID:-//Osprey Wilds - ECPv5.2.0//NONSGML v1.0//EN
CALSCALE:GREGORIAN
METHOD:PUBLISH
X-WR-CALNAME:Osprey Wilds
X-ORIGINAL-URL:https://ospreywilds.org
X-WR-CALDESC:Events for Osprey Wilds
BEGIN:VTIMEZONE
TZID:America/Chicago
BEGIN:DAYLIGHT
TZOFFSETFROM:-0600
TZOFFSETTO:-0500
TZNAME:CDT
DTSTART:20200308T080000
END:DAYLIGHT
BEGIN:STANDARD
TZOFFSETFROM:-0500
TZOFFSETTO:-0600
TZNAME:CST
DTSTART:20201101T070000
END:STANDARD
END:VTIMEZONE
BEGIN:VEVENT
DTSTART;TZID=America/Chicago:20200718T120000
DTEND;TZID=America/Chicago:20200718T180000
DTSTAMP:20260421T053926
CREATED:20200702T185520Z
LAST-MODIFIED:20200715T172649Z
UID:503409-1595073600-1595095200@ospreywilds.org
SUMMARY:July 18 Picnic Pick Up
DESCRIPTION:Picnic Pick Up 		\n				\n				\n						\n							\n					\n			\n							\n						\n				\n					Join us for our Summer Picnic Pick Up events! Our kitchen staff will cook and prepare a picnic\, all you have to do is pick up your order on July 18 and enjoy! Each meal will be safely prepared and packaged in to-go containers so you can picnic at Osprey Wilds\, or enjoy at home. Orders must be placed by noon on Friday\, July 17. You will note on your order form when you plan to pick up your picnic\, either between 12:00-1:00 pm or 5:00-6:00 pm. Menu: Shredded Chicken Sandwich ColeslawQuinoa SaladCookie\n				\n				\n				\n				\n			Order Here
URL:https://ospreywilds.org/event/july-18-picnic-pick-up/
LOCATION:Osprey Wilds\, 54165 Audubon Dr\, Sandstone\, MN\, 55072\, United States
CATEGORIES:Family Events
ATTACH;FMTTYPE=image/jpeg:https://ospreywilds.org/wp/wp-content/uploads/2020/07/PPU-July-e1593725491740.jpg
END:VEVENT
END:VCALENDAR