BEGIN:VCALENDAR
VERSION:2.0
PRODID:-//Osprey Wilds - ECPv5.2.0//NONSGML v1.0//EN
CALSCALE:GREGORIAN
METHOD:PUBLISH
X-WR-CALNAME:Osprey Wilds
X-ORIGINAL-URL:https://ospreywilds.org
X-WR-CALDESC:Events for Osprey Wilds
BEGIN:VTIMEZONE
TZID:America/Chicago
BEGIN:DAYLIGHT
TZOFFSETFROM:-0600
TZOFFSETTO:-0500
TZNAME:CDT
DTSTART:20220313T080000
END:DAYLIGHT
BEGIN:STANDARD
TZOFFSETFROM:-0500
TZOFFSETTO:-0600
TZNAME:CST
DTSTART:20221106T070000
END:STANDARD
END:VTIMEZONE
BEGIN:VEVENT
DTSTART;VALUE=DATE:20220102
DTEND;VALUE=DATE:20220117
DTSTAMP:20260423T155449
CREATED:20200320T130042Z
LAST-MODIFIED:20211124T193924Z
UID:501890-1641081600-1642377599@ospreywilds.org
SUMMARY:(FULL) J-Term 2022: Wolves & Northwoods Carnivores – Predator Ecology
DESCRIPTION:  This course is currently full. If you would like to be added to our waitlist\, please email frontdesk@ospreywilds.org.    \n				\n				\n						\n					\n		\n								\n					\n		\n				\n							\n							\n							\n					\n			\n							\n						\n				\n					\n			\n		\n				\n				\n				\n				\n			J-TERM \nWolves and Northwood Carnivores 		\n				\n				\n				\n			Predator Ecology 		\n				\n				\n				\n			January 2-16\, 2022		\n				\n				\n				\n					\n			\n		\n				\n				\n						\n					\n		\n								\n					\n		\n				\n						\n							\n					\n			\n							\n						\n				\n			Course Information		\n				\n						\n					\n		\n								\n					\n		\n				\n						\n							\n					\n			\n							\n						\n				\n					The grey wolf has long excited the human imagination. Minnesota\, with approximately 2200 wolves\, is home to the largest and only continuous population of wolves in the lower 48 states. It is a center for wolf research. Countries around the world\, as well as other states\, look to Minnesota as an example of how wolves and humans can co-exist in relative harmony. Students will work on two wolf projects during the course: one to determine pack numbers\, territories\, and behavior through tracking surveys near Ely\, MN. The second\, to determine wolf pack size\, territory\, and the impacts of prey species on the historic Jonvick Deer Yard along the North Shore of Lake Superior (Lutsen\, MN). We will also collect data on Canada lynx in the area in collaboration with the Superior National Forest. \n				\n				\n						\n					\n		\n				\n			\n							\n						\n				\n					\n			\n							\n					\n				\n				\n				\n				\n					Resources: Download Course FlyerOnline Registration Scholarship FormParticipant Packet Facebook GroupHear what past students have said: J-Term Testimonials\n				\n				\n						\n					\n		\n								\n					\n		\n				\n						\n							\n					\n			\n							\n						\n				\n					Students are required to have a COVID-19 vaccination to attend this course.  Other topics covered in lecture and fieldwork include: \n				\n				\n				\n						\n							\n					\n			\n							\n						\n				\n					Wolf ecology and observation of captive wolvesLynx ecology and observation of captive lynx and bobcatsDeer ecologyCoyote & Fox ecologyBobcat & Cougar ecologyBear Ecology\n				\n				\n						\n					\n		\n				\n			\n							\n						\n				\n					TrackingResearch techniquesAerial radio telemetryHabitat analysisWinter ecologyWinter first aid and safetyCross-country skiingSnowshoeing\n				\n				\n						\n					\n		\n								\n					\n		\n				\n				\n					This course includes visits to the Wildlife Science Center (one of the country’s oldest wolf facilities dedicated to the training\, research\, education\, and conservation surrounding this keystone predator)\, the North American Bear Center\, the International Wolf Center\, Boundary Waters Canoe Area Wilderness\, and Minnesota’s North Shore of Lake Superior. \n				\n				\n						\n					\n		\n								\n					\n		\n				\n						\n							\n					\n			\n							\n								\n					\n		\n								\n					\n		\n				\n						\n							\n					\n			\n							\n						\n				\n			Registration		\n				\n						\n					\n		\n								\n					\n		\n				\n						\n							\n					\n			\n							\n						\n				\n					Course Fee: $1\,995Scholarships are available Please register online using the link below. A $100 deposit is due at the time of registration. Full payment is due by December 13\, 2021. An airport shuttle service is available for $35 each way. Payments can be made using a credit card or check.  All fees to Osprey Wilds are non-refundable. There are no refunds for cancellations. \n				\n				\n				\n				\n					\n			\n						\n						Register Here\n		\n					\n		\n				\n				\n				\n				\n					\n			\n						\n		\n				\n				\n				\n				\n					Optional: Registration and credit through Carroll University Non-Carroll University students may receive college credit for this course by completing a Non-Degree Summer/Winter Registration Form with the following course information. Follow these instructions.  If students have questions about receiving credit through Carroll University\, please contact Lynn Novak\, Director of Admission Email: lnovak@carrollu.edu | Phone: 262.524.7620. \n				\n				\n						\n					\n		\n				\n			\n							\n						\n				\n					Mailing Address:  Osprey Wilds Environmental Learning CenterPO Box 530 Sandstone\, MN 55072Phone 320-245-2648Email frontdesk@ospreywilds.org \n				\n				\n						\n					\n		\n								\n					\n		\n				\n						\n							\n					\n			\n							\n								\n					\n		\n								\n					\n		\n				\n						\n							\n					\n			\n							\n						\n				\n			Scholarships		\n				\n						\n					\n		\n								\n					\n		\n				\n						\n							\n					\n			\n							\n						\n				\n					Osprey Wilds offers scholarships to help cover the cost of this course. Please download our scholarship form and submit it at least one month prior to the start of this course (January 2\, 2022). Please limit your response to 2 pages. Scholarship requests are reviewed on a first-come basis. Submit your application to frontdesk@ospreywilds.org \n				\n				\n						\n					\n		\n								\n					\n		\n				\n						\n							\n					\n			\n							\n						\n				\n					\n			\n						\n						Download Scholarship Form Here\n		\n					\n		\n				\n				\n						\n					\n		\n								\n					\n		\n				\n						\n							\n					\n			\n							\n								\n					\n		\n								\n					\n		\n				\n						\n							\n					\n			\n							\n						\n				\n			Questions?		\n				\n						\n					\n		\n								\n					\n		\n				\n						\n							\n					\n			\n							\n						\n				\n					Contact Bryan Wood at wood@ospreywilds.org or our front desk at frontdesk@ospreywilds.org.
URL:https://ospreywilds.org/event/jterm2022/
CATEGORIES:College Events
ATTACH;FMTTYPE=image/jpeg:https://ospreywilds.org/wp/wp-content/uploads/2020/03/wold-01-scaled.jpg
END:VEVENT
END:VCALENDAR