BEGIN:VCALENDAR
VERSION:2.0
PRODID:-//Osprey Wilds - ECPv5.2.0//NONSGML v1.0//EN
CALSCALE:GREGORIAN
METHOD:PUBLISH
X-WR-CALNAME:Osprey Wilds
X-ORIGINAL-URL:https://ospreywilds.org
X-WR-CALDESC:Events for Osprey Wilds
BEGIN:VTIMEZONE
TZID:America/Chicago
BEGIN:DAYLIGHT
TZOFFSETFROM:-0600
TZOFFSETTO:-0500
TZNAME:CDT
DTSTART:20200308T080000
END:DAYLIGHT
BEGIN:STANDARD
TZOFFSETFROM:-0500
TZOFFSETTO:-0600
TZNAME:CST
DTSTART:20201101T070000
END:STANDARD
END:VTIMEZONE
BEGIN:VEVENT
DTSTART;TZID=America/Chicago:20200613T180000
DTEND;TZID=America/Chicago:20200613T190000
DTSTAMP:20260423T122045
CREATED:20200325T212842Z
LAST-MODIFIED:20200528T184805Z
UID:501995-1592071200-1592074800@ospreywilds.org
SUMMARY:Virtual Dinner at the Lake - June 13\, 2020
DESCRIPTION:Virtual Dinner at the Lake with Bridget Mendel\, Bee Squad Program Director This event will be held over Zoom. Our presenter is Program Director from the University of Minnesota Bee Squad\, Bridget Mendel.  Inspired by Dr. Marla Spivak at the University of Minnesota Bee Lab\, the Bee Squad helps beekeepers and the community in the Twin Cities promote the conservation\, health\, and diversity of bee pollinators through research\, education\, and hands-on mentorship. Bridget Mendel is the Program Director of the Bee Squad. She holds BA from Northwestern University and an MFA  from the University of Minnesota. \n				\n				\n				\n						\n							\n					\n			\n							\n						\n				\n					\n																					\n				\n				\n						\n					\n		\n				\n			\n							\n						\n				\n			Pricing $10		\n				\n				\n				\n					  Click here to register onlineIf you have any questions\, please contact us at frontdesk@ospreywilds.org\n				\n				\n						\n					\n		\n								\n					\n		\n				\n				\n					\n			\n		\n				\n				\n						\n					\n		\n								\n					\n		\n				\n						\n							\n					\n			\n							\n						\n				\n			Recipes		\n				\n				\n				\n			These appetizers\, sides\, and drinks highlight pollinator-dependant ingredients.
URL:https://ospreywilds.org/event/dinner-at-the-lake-june-13-2020/
LOCATION:Online
CATEGORIES:Adult Events,Community Events,Family Events
ATTACH;FMTTYPE=image/jpeg:https://ospreywilds.org/wp/wp-content/uploads/2019/08/yellow-petaled-flower-with-black-yellow-bee-during-daytime-63641-scaled-e1583965013829.jpg
END:VEVENT
END:VCALENDAR