BEGIN:VCALENDAR
VERSION:2.0
PRODID:-//Osprey Wilds - ECPv5.2.0//NONSGML v1.0//EN
CALSCALE:GREGORIAN
METHOD:PUBLISH
X-WR-CALNAME:Osprey Wilds
X-ORIGINAL-URL:https://ospreywilds.org
X-WR-CALDESC:Events for Osprey Wilds
BEGIN:VTIMEZONE
TZID:America/Chicago
BEGIN:DAYLIGHT
TZOFFSETFROM:-0600
TZOFFSETTO:-0500
TZNAME:CDT
DTSTART:20220313T080000
END:DAYLIGHT
BEGIN:STANDARD
TZOFFSETFROM:-0500
TZOFFSETTO:-0600
TZNAME:CST
DTSTART:20221106T070000
END:STANDARD
END:VTIMEZONE
BEGIN:VEVENT
DTSTART;VALUE=DATE:20221210
DTEND;VALUE=DATE:20221211
DTSTAMP:20260422T040917
CREATED:20221002T224246Z
LAST-MODIFIED:20221109T221623Z
UID:509588-1670630400-1670716799@ospreywilds.org
SUMMARY:Dinner at the Lake - December
DESCRIPTION:Dinner at the Lake		\n				\n				\n				\n			Saturday\, December 10		\n				\n				\n				\n			5 pm - 9 pm 		\n				\n				\n				\n			$45		\n				\n				\n				\n					\n			\n						\n		\n				\n				\n				\n						\n							\n					\n			\n							\n						\n				\n					Join us at Osprey Wilds for our Dinner at the Lake on December 10.  Enjoy delicious food and hear from our guest speaker\, Angela Dawson of 40 Acre Cooperative. \n				\n				\n						\n					\n		\n								\n					\n		\n				\n				\n					\n			\n						\n						Tickets\n		\n					\n		\n				\n				\n				\n				\n					\n			\n						\n		\n				\n				\n				\n						\n							\n					\n			\n							\n						\n				\n					\n																					\n				\n				\n						\n					\n		\n				\n			\n							\n						\n				\n					Ms. Dawson is a fourth-generation farmer from the Upper Midwest and a first generation college graduate earning several degrees in business and legal education. Dawson’s business expertise has primarily focused on cooperative business development\, food systems security\, and public health. Over her twenty eight year career Dawson has served on several boards and committees advocating for equity\, inclusion and environmental sustainability. Dawson recently co-founded The Great Rise to scale her advocacy positions and create lasting policy changes in Minnesota and beyond. \n				\n				\n						\n					\n		\n								\n					\n		\n				\n				\n					\n			\n						\n		\n				\n				\n				\n				\n					Angela and her work have been featured in several publications including the following: \n\nInStyle Magazine: The Badass 50 – 2021\nFox 9: New Bill Aims to Even the Field for Black Farmers\nMashable: Black farmers denied loans teach each other how to make money growing hemp\nBlackTech: How Angela Dawson and the 40 Acres Co-Op Are Reclaiming Black Wealth Through Farming\nKARE: 40 Acre Co-op\, A Co-Op for Black Farmers\nHemp Farmer: 40 Acre Co-op: Creating New Promise for Socially Disadvantaged Farmers\nKARE 11 News Feature of 40 Acre Co-op \nAuthority: Women Of The C-Suite: Angela Dawson of 40 Acre Cooperative On The Five Things You Need To Succeed As A Senior Executive\nAPLUS by Ashton Kutcher
URL:https://ospreywilds.org/event/dinner-at-the-lake-decemeber/
CATEGORIES:Community Events
ORGANIZER;CN="Osprey%20Wilds":MAILTO:info@ospreywilds.org
END:VEVENT
END:VCALENDAR