BEGIN:VCALENDAR
VERSION:2.0
PRODID:-//Osprey Wilds - ECPv5.2.0//NONSGML v1.0//EN
CALSCALE:GREGORIAN
METHOD:PUBLISH
X-WR-CALNAME:Osprey Wilds
X-ORIGINAL-URL:https://ospreywilds.org
X-WR-CALDESC:Events for Osprey Wilds
BEGIN:VTIMEZONE
TZID:America/Chicago
BEGIN:DAYLIGHT
TZOFFSETFROM:-0600
TZOFFSETTO:-0500
TZNAME:CDT
DTSTART:20200308T080000
END:DAYLIGHT
BEGIN:STANDARD
TZOFFSETFROM:-0500
TZOFFSETTO:-0600
TZNAME:CST
DTSTART:20201101T070000
END:STANDARD
END:VTIMEZONE
BEGIN:VEVENT
DTSTART;TZID=America/Chicago:20201220T100000
DTEND;TZID=America/Chicago:20201220T153000
DTSTAMP:20260423T120201
CREATED:20201123T202404Z
LAST-MODIFIED:20201210T153953Z
UID:505051-1608458400-1608478200@ospreywilds.org
SUMMARY:High Ropes Day (Full)
DESCRIPTION:High Ropes Day		\n				\n				\n				\n			Sunday\, December 20		\n				\n				\n				\n					This event is full\, but you can still schedule another time to explore our High Ropes course this winter. Learn more and schedule a time here. — Join us at Osprey Wilds to experience our High Ropes course. This is a great team-building experience that is filled with adventure! We will be limiting the number of participants to 10 people per session. This event is weather-dependent and will be postponed if outside temperatures drop below 10 degrees and/or if snowfall decreases visibility. Please register below. Participants must be at least 48 inches tall.  The cost is $30/person. Group rates (4 or more people) are $100+ $25 for each additional person.  All of our events will follow the regulations and recommendations from the state regarding COVID-19 procedures and precautions. Please wear a face mask and practice social distancing while at Osprey Wilds. If you feel unwell or are experiencing any symptoms\, please stay home. \n				\n				\n				\n				\n					\n			\n						\n						Register Here: Morning Session 10 am - 12 pm\n		\n					\n		\n				\n				\n				\n				\n					\n			\n						\n						Register Here: Afternoon Session 1:30 pm - 3:30 pm\n		\n					\n		\n				\n				\n						\n					\n		\n				\n			\n							\n						\n				\n					\n																					\n				\n				\n				\n				\n					\n																					\n				\n				\n						\n					\n		\n								\n					\n		\n				\n						\n							\n					\n			\n							\n						\n				\n					\n			\n		\n				\n				\n				\n				\n					Sign up for our emails to be the first to know about new events\, programs\, and news from Osprey Wilds!
URL:https://ospreywilds.org/event/december-high-ropes-day/
CATEGORIES:Community Events,Family Events
ATTACH;FMTTYPE=image/jpeg:https://ospreywilds.org/wp/wp-content/uploads/2020/10/IMG_6485-e1602775300876.jpeg
END:VEVENT
END:VCALENDAR