BEGIN:VCALENDAR
VERSION:2.0
PRODID:-//Osprey Wilds - ECPv5.2.0//NONSGML v1.0//EN
CALSCALE:GREGORIAN
METHOD:PUBLISH
X-WR-CALNAME:Osprey Wilds
X-ORIGINAL-URL:https://ospreywilds.org
X-WR-CALDESC:Events for Osprey Wilds
BEGIN:VTIMEZONE
TZID:America/Chicago
BEGIN:DAYLIGHT
TZOFFSETFROM:-0600
TZOFFSETTO:-0500
TZNAME:CDT
DTSTART:20240310T080000
END:DAYLIGHT
BEGIN:STANDARD
TZOFFSETFROM:-0500
TZOFFSETTO:-0600
TZNAME:CST
DTSTART:20241103T070000
END:STANDARD
END:VTIMEZONE
BEGIN:VEVENT
DTSTART;TZID=America/Chicago:20240420T170000
DTEND;TZID=America/Chicago:20240420T200000
DTSTAMP:20260421T161250
CREATED:20230727T161132Z
LAST-MODIFIED:20240215T162027Z
UID:510483-1713632400-1713643200@ospreywilds.org
SUMMARY:April Dinner at the Lake
DESCRIPTION:Dinner at the Lake		\n				\n				\n				\n			Saturday\, April 20th		\n				\n				\n				\n			5 pm - 8 pm 		\n				\n				\n				\n			$40		\n				\n				\n				\n					\n			\n						\n		\n				\n				\n				\n				\n					\n							\n					\n										\n														\n							\n					\n										\n														\n							\n					\n										\n														\n							\n					\n										\n														\n					\n			\n				\n				\n						\n							\n					\n			\n							\n						\n				\n					Spring offers many tasty opportunities for the budding forager! Join Maria Wesserle of Four Season Foraging for an introductory lesson covering common mushrooms\, fruits\, and greens of spring and summer. We will discuss identification\, harvest\, and preparation of each plant\, as well as general foraging info and legality. You will leave with basic knowledge of how to identify\, harvest\, and prepare several wild edibles on your own\, impressing your friends and family with tasty new foods! \n				\n				\n						\n					\n		\n								\n					\n		\n				\n						\n							\n					\n			\n							\n						\n				\n					Spring offers many tasty opportunities for the budding forager! Join Maria Wesserle of Four Season Foraging for an introductory lesson covering common mushrooms\, fruits\, and greens of spring and summer. We will discuss identification\, harvest\, and preparation of each plant\, as well as general foraging info and legality. You will leave with basic knowledge of how to identify\, harvest\, and prepare several wild edibles on your own\, impressing your friends and family with tasty new foods! \n				\n				\n						\n					\n		\n								\n					\n		\n				\n				\n					\n			\n						\n						Tickets\n		\n					\n		\n				\n				\n				\n				\n					All reservations must be paid in full prior to the day of the event. \n				\n				\n				\n				\n					\n			\n						\n		\n				\n				\n				\n				\n					\n																					\n				\n				\n				\n						\n							\n					\n			\n							\n						\n				\n					\n																					\n				\n				\n						\n					\n		\n				\n			\n							\n						\n				\n					Maria has been gathering wild edibles since 2004 and loves sharing this skill with others. She has spent over 10 years teaching foraging and other nature programs at various organizations in the Upper Midwest. In 2017\, Maria founded Four Season Foraging to offer monthly foraging workshops\, creating a space where people can learn to interact with urban and rural wild places in meaningful and sustainable ways. \n				\n				\n				\n				\n					Maria has been gathering wild edibles since 2004 and loves sharing this skill with others. She has spent over 10 years teaching foraging and other nature programs at various organizations in the Upper Midwest. In 2017\, Maria founded Four Season Foraging to offer monthly foraging workshops\, creating a space where people can learn to interact with urban and rural wild places in meaningful and sustainable ways. \n				\n				\n						\n					\n		\n								\n					\n		\n				\n				\n					\n			\n						\n		\n				\n				\n				\n				\n					 \nMENU\nBeer & Wine \nAppetizerFarro Salad \nMain CourseRoasted Chicken – locally sourced from our Trapp Farm \nChix Breast (V) \nSeasoned Corn \nMashed Potatoes and Gravy \nDinner Rolls and Butter \nDessertFruit Cobbler
URL:https://ospreywilds.org/event/april-dinner-at-the-lake-2/
LOCATION:Osprey Wilds\, 54165 Audubon Dr\, Sandstone\, MN\, 55072\, United States
CATEGORIES:Adult Events,Community Events
ORGANIZER;CN="Osprey%20Wilds":MAILTO:info@ospreywilds.org
END:VEVENT
END:VCALENDAR