BEGIN:VCALENDAR
VERSION:2.0
PRODID:-//Osprey Wilds - ECPv5.2.0//NONSGML v1.0//EN
CALSCALE:GREGORIAN
METHOD:PUBLISH
X-WR-CALNAME:Osprey Wilds
X-ORIGINAL-URL:https://ospreywilds.org
X-WR-CALDESC:Events for Osprey Wilds
BEGIN:VTIMEZONE
TZID:America/Chicago
BEGIN:DAYLIGHT
TZOFFSETFROM:-0600
TZOFFSETTO:-0500
TZNAME:CDT
DTSTART:20240310T080000
END:DAYLIGHT
BEGIN:STANDARD
TZOFFSETFROM:-0500
TZOFFSETTO:-0600
TZNAME:CST
DTSTART:20241103T070000
END:STANDARD
END:VTIMEZONE
BEGIN:VEVENT
DTSTART;TZID=America/Chicago:20240907T170000
DTEND;TZID=America/Chicago:20240907T200000
DTSTAMP:20260422T224939
CREATED:20240620T162553Z
LAST-MODIFIED:20240829T165226Z
UID:511497-1725728400-1725739200@ospreywilds.org
SUMMARY:Dinner at the Lake with Eric Wood
DESCRIPTION:Dinner at the Lake		\n				\n				\n				\n			Saturday\, September 7th		\n				\n				\n				\n			5 pm - 8 pm 		\n				\n				\n				\n			$40		\n				\n				\n				\n					\n			\n						\n		\n				\n				\n				\n				\n			Introducing Environmental Medicine  and\nEveryday Toxic Threats		\n				\n				\n						\n							\n					\n			\n							\n						\n				\n					Join us for a magical evening on the lake! Enjoy delicious food and hear from keynote speaker Dr. Eric Wood\, Environmental Scientist. \n				\n				\n						\n					\n		\n								\n					\n		\n				\n						\n							\n					\n			\n							\n						\n				\n					\n																					\n				\n				\n						\n					\n		\n				\n			\n							\n						\n				\n					In this informative talk\, Dr. Eric Wood will connect the dots between the reality of what many people face from everyday toxic threats and don’t even know it (including mold\, bisphenols\, heavy metals\, pesticides/herbicides\, phthalates\, PFAS\, and parabens and more).  Individuals will walk away with knowledge about how they or a loved one can assess for such threats and benefit medically by addressing such issues in their health/lives via the assistance of naturopathic and integrative medicine.  \n				\n				\n						\n					\n		\n								\n					\n		\n				\n				\n					\n			\n						\n						Buy Tickets\n		\n					\n		\n				\n				\n				\n				\n					Tickets are $40 per person and include: – Beer & wine selections- -3-course dinner- -Admission to the keynote presentation- -Connection & community on beautiful Grindstone Lake!- All reservations must be paid in full prior to the day of the event. \n				\n				\n				\n				\n					\n			\n						\n		\n				\n				\n				\n						\n							\n					\n			\n							\n						\n				\n					\n																					\n				\n				\n				\n				\n					\n			\n		\n				\n				\n				\n				\n					\n																					\n				\n				\n						\n					\n		\n				\n			\n							\n						\n				\n					Hannah grew up on a corn and soybean farm in Southern Minnesota and graduated from Mount Holyoke College in western Massachusetts in 2004. She worked in politics and government in St. Paul and Washington\, DC\, grew her first vegetables on rooftops in Brooklyn\, and fell in love with grass-based livestock farming as an intern at Kinderhook Farm in the Hudson Valley of Upstate New York. She returned home to Minnesota and began her pastured pig operation\, Belly Rub Bacon\, in 2015 at beautiful Dancing Winds Farms outside of Kenyon\, MN\, formerly a popular goat dairy run by Mairi Doerr. In the spring of 2016\, Hannah and her partner bought 160 acres of beautiful rolling hay fields and wildlife-filled wetlands outside Finlayson\, MN\, and Medicine Creek Farm was born. \n				\n				\n						\n					\n		\n								\n					\n		\n				\n				\n					 DINNER MENUBeer & Wine AppetizerKale Salad Main Course Lemon Pepper Cod Fishless Fish Roasted Root Vegetables Rutabaga al Gratin Dinner roll DessertZucchini Brownies al a Mode
URL:https://ospreywilds.org/event/dinner-at-the-lake-with-eric-wood/
LOCATION:Osprey Wilds\, 54165 Audubon Dr\, Sandstone\, MN\, 55072\, United States
CATEGORIES:Adult Events
ORGANIZER;CN="Osprey%20Wilds":MAILTO:info@ospreywilds.org
END:VEVENT
END:VCALENDAR